BEGIN:VCALENDAR
VERSION:2.0
PRODID:-//Povjerenik za informiranje - ECPv6.15.17//NONSGML v1.0//EN
CALSCALE:GREGORIAN
METHOD:PUBLISH
X-ORIGINAL-URL:https://pristupinfo.hr
X-WR-CALDESC:Događaji za Povjerenik za informiranje
REFRESH-INTERVAL;VALUE=DURATION:PT1H
X-Robots-Tag:noindex
X-PUBLISHED-TTL:PT1H
BEGIN:VTIMEZONE
TZID:UTC
BEGIN:STANDARD
TZOFFSETFROM:+0000
TZOFFSETTO:+0000
TZNAME:UTC
DTSTART:20190101T000000
END:STANDARD
END:VTIMEZONE
BEGIN:VEVENT
DTSTART;TZID=UTC:20230613T090000
DTEND;TZID=UTC:20230613T163000
DTSTAMP:20260419T125941
CREATED:20230302T114357Z
LAST-MODIFIED:20230302T114357Z
UID:10000161-1686646800-1686673800@pristupinfo.hr
SUMMARY:Pravo na pristup informacijama - napredni modul
DESCRIPTION:Jednodnevni program provodi se u suradnji s Državnom školom za javnu upravu\, a svrha mu je stjecanje i produbljivanje znanja iz područja prava na pristup informacijama. \nNapredni modul namijenjen je službenicima koji su odslušali osnovni modul\, a zanimaju ih pojedina pitanja u primjeni Zakona o pravu na pristup informacijama\, kao što su test razmjernosti i javnog interesa\, zlouporaba prava\, ograničenja pristupa i dr. \nUkupno trajanje radionice je 8 sati. Edukacija se održava uživo u prostorijama Državne škole za javnu upravu.
URL:https://pristupinfo.hr/event/pravo-na-pristup-informacijama-napredni-modul-4/
LOCATION:Državna škola za javnu upravu\, Medulićeva 36\, Zagreb\, 10000\, Croatia (Local Name: Hrvatska)
END:VEVENT
BEGIN:VEVENT
DTSTART;VALUE=DATE:20230424
DTEND;VALUE=DATE:20230425
DTSTAMP:20260419T125941
CREATED:20230302T131237Z
LAST-MODIFIED:20230302T131237Z
UID:10000168-1682294400-1682380799@pristupinfo.hr
SUMMARY:Ponovna uporaba informacija i otvoreni podaci (e-tečaj)
DESCRIPTION:Svrha e-tečaja je stručno osposobljavanje i usavršavanje službenika u tijelima javne vlasti za primjenu odredbi Zakona o pravu na pristup informacijama u dijelu u kojem se propisuje obveza proaktivne objave informacija na internetskoj stranici na lako pretraživ način i u strojno čitljivom obliku\, kao i u identifikaciji i objavi skupova podataka radi stavljanja na raspolaganje informacija za ponovnu uporabu te pružanja informacija na zahtjev korisnika. \nTijekom e-tečaja polaznici će se upoznati sa zakonskim i institucionalnim okvirom za ponovnu uporabu\, obvezama tijela javne vlasti u osiguranju ponovne uporabe informacija\, osiguranju kvalitete i otvorenosti podataka\, uvjetima ponovne uporabe podataka (licenciranje\, Otvorena dozvola\, druge vrste dozvola) te ostvarivanjem i zaštitom prava na ponovnu uporabu (ograničenja prava\, pravna zaštita u postupku ostvarivanja prava na ponovnu uporabu\, troškovi ponovne uporabe\, isključiva prava). \nUkupno trajanje e-tečaja je 4 školska sata\, a polaznici mogu pohađati tečaj vlastitim tempom tijekom pet dana u zadanom razdoblju od 24. do 28. travnja 2023. \nPrijava na tečaj moguća je isključivo preko online sustava DŠJU
URL:https://pristupinfo.hr/event/ponovna-uporaba-informacija-i-otvoreni-podaci-e-tecaj-3/
END:VEVENT
BEGIN:VEVENT
DTSTART;VALUE=DATE:20230320
DTEND;VALUE=DATE:20230321
DTSTAMP:20260419T125941
CREATED:20230302T125053Z
LAST-MODIFIED:20230307T114752Z
UID:10000167-1679270400-1679356799@pristupinfo.hr
SUMMARY:Ponovna uporaba informacija i otvoreni podaci (e-tečaj)
DESCRIPTION:Svrha e-tečaja je stručno osposobljavanje i usavršavanje službenika u tijelima javne vlasti za primjenu odredbi Zakona o pravu na pristup informacijama u dijelu u kojem se propisuje obveza proaktivne objave informacija na internetskoj stranici na lako pretraživ način i u strojno čitljivom obliku\, kao i u identifikaciji i objavi skupova podataka radi stavljanja na raspolaganje informacija za ponovnu uporabu te pružanja informacija na zahtjev korisnika. \nTijekom e-tečaja polaznici će se upoznati sa zakonskim i institucionalnim okvirom za ponovnu uporabu\, obvezama tijela javne vlasti u osiguranju ponovne uporabe informacija\, osiguranju kvalitete i otvorenosti podataka\, uvjetima ponovne uporabe podataka (licenciranje\, Otvorena dozvola\, druge vrste dozvola) te ostvarivanjem i zaštitom prava na ponovnu uporabu (ograničenja prava\, pravna zaštita u postupku ostvarivanja prava na ponovnu uporabu\, troškovi ponovne uporabe\, isključiva prava). \nUkupno trajanje e-tečaja je 4 školska sata\, a polaznici mogu pohađati tečaj vlastitim tempom tijekom pet dana u zadanom razdoblju od 20. do 24. ožujka 2023. \nPrijava na tečaj moguća je isključivo preko online sustava DŠJU.
URL:https://pristupinfo.hr/event/ponovna-uporaba-informacija-i-otvoreni-podaci-e-tecaj-2/
END:VEVENT
BEGIN:VEVENT
DTSTART;TZID=UTC:20210921T000000
DTEND;TZID=UTC:20210921T000000
DTSTAMP:20260419T125941
CREATED:20210212T150440Z
LAST-MODIFIED:20210212T150440Z
UID:10000100-1632182400-1632182400@pristupinfo.hr
SUMMARY:DŠJU: Pravo na pristup informacijama - Napredni modul
DESCRIPTION:
URL:https://pristupinfo.hr/event/dsju-pravo-na-pristup-informacijama-napredni-modul-3/
END:VEVENT
BEGIN:VEVENT
DTSTART;TZID=UTC:20210615T090000
DTEND;TZID=UTC:20210615T144500
DTSTAMP:20260419T125941
CREATED:20210212T150303Z
LAST-MODIFIED:20210531T130457Z
UID:10000099-1623747600-1623768300@pristupinfo.hr
SUMMARY:DŠJU: Pravo na pristup informacijama - osnovni modul
DESCRIPTION:
URL:https://pristupinfo.hr/event/dsju-pravo-na-pristup-informacijama-napredni-modul-2/
END:VEVENT
BEGIN:VEVENT
DTSTART;TZID=UTC:20210526T000000
DTEND;TZID=UTC:20210526T000000
DTSTAMP:20260419T125941
CREATED:20210212T150812Z
LAST-MODIFIED:20210519T110919Z
UID:10000102-1621987200-1621987200@pristupinfo.hr
SUMMARY:Proaktivna objava informacija – javne ustanove s područja djelatnosti zaštite okoliša i prirode i prostornog uređenja
DESCRIPTION:
URL:https://pristupinfo.hr/event/proaktivna-objava-informacija-javne-ustanove-s-podrucja-djelatnosti-zastite-okolisa-i-prirode-i-prostornog-uredenja/
END:VEVENT
BEGIN:VEVENT
DTSTART;TZID=UTC:20210518T000000
DTEND;TZID=UTC:20210518T000000
DTSTAMP:20260419T125941
CREATED:20210212T150027Z
LAST-MODIFIED:20210212T150027Z
UID:10000097-1621296000-1621296000@pristupinfo.hr
SUMMARY:DŠJU: Pravo na pristup informacijama - Osnovni modul
DESCRIPTION:
URL:https://pristupinfo.hr/event/dsju-pravo-na-pristup-informacijama-osnovni-modul-2/
END:VEVENT
BEGIN:VEVENT
DTSTART;VALUE=DATE:20200630
DTEND;VALUE=DATE:20200701
DTSTAMP:20260419T125941
CREATED:20200611T155135Z
LAST-MODIFIED:20200611T160130Z
UID:10000060-1593475200-1593561599@pristupinfo.hr
SUMMARY:"Digitalna pristupačnost" - online edukacija
DESCRIPTION:Prema Zakonu o pristupačnosti mrežnih stranica i programskih rješenja za pokretne uređaje tijela javnog sektora („Narodne novine“\, broj 17/2019) tijela javnog sektora imaju obvezu osigurati pristupačnost svojih mrežnih stranica i mobilnih aplikacija. Svrha ovog programa je stručno osposobljavanje i usavršavanje službenika tijela javnog sektora za primjenu odredbi Zakona. Kako bi se ta svrha ostvarila\, uspostavljen je online tečaj koji će omogućit trajan\, dostupan i troškovno učinkovit model informiranja i edukacije službenika tijela javnog sektora o primjeni Zakona. Sadržaj: – digitalna pristupačnost (ideja i svrha\, važnost za različite kategorije osoba s invaliditetom) – zakonski okvir (WAD direktiva i Zakon o pristupačnosti) – kriteriji pristupačnosti (mogućnost opažanja\, operabilnost\, razumljivost\, stabilnost) – standardi i praktična rješenja za prilagodbu web stranica – pregled dostupnih online alata za procjenu usklađenosti – izrada početne procjene i izjave o usklađenosti Trajanje: 4 školska sata (polaznici mogu pohađati tečaj vlastitim tempom u razdoblju od 30. lipnja – 5. srpnja 2020. godine. \nPrimarna ciljna skupine online edukacije obuhvaća službenike zadužene za administraciju web stranica u tijelima javnog sektora\, a edukacija je otvorena i čelnicima te službenicima za informiranje u tijelima javnog sektora. \nZainteresirani polaznici na program se mogu prijaviti isključivo preko internet stranica Državne škole za javnu upravu (www.dsju.hr)
URL:https://pristupinfo.hr/event/digitalna-pristupacnost-online-edukacija/
END:VEVENT
END:VCALENDAR