BEGIN:VCALENDAR
VERSION:2.0
PRODID:-//Povjerenik za informiranje - ECPv6.15.17//NONSGML v1.0//EN
CALSCALE:GREGORIAN
METHOD:PUBLISH
X-ORIGINAL-URL:https://pristupinfo.hr
X-WR-CALDESC:Događaji za Povjerenik za informiranje
REFRESH-INTERVAL;VALUE=DURATION:PT1H
X-Robots-Tag:noindex
X-PUBLISHED-TTL:PT1H
BEGIN:VTIMEZONE
TZID:UTC
BEGIN:STANDARD
TZOFFSETFROM:+0000
TZOFFSETTO:+0000
TZNAME:UTC
DTSTART:20250101T000000
END:STANDARD
END:VTIMEZONE
BEGIN:VEVENT
DTSTART;TZID=UTC:20261104T140000
DTEND;TZID=UTC:20261104T144500
DTSTAMP:20260422T233653
CREATED:20260304T102838Z
LAST-MODIFIED:20260304T102838Z
UID:10000255-1793800800-1793803500@pristupinfo.hr
SUMMARY:Webinar "Proaktivna objava informacija"
DESCRIPTION:Za praćenje webinara potrebno je instalirati Adobe Connect aplikaciju koju je moguće preuzeti na sljedećim poveznicama: \n\nZa Windows računala (32&64bit)\nZa Apple računala (MacOS)\nZa Android mobitele (Google trgovina)\nZa iPhone mobitele (App Store)\n\nInstalaciju je potrebno napraviti samo prvi put. Po instalaciji\, polaznici se na webinar spajaju putem poveznice https://connect.carnet.hr/informiranje/\, a potom prijavljuju kao GOST (nije potrebna lozinka) te unošenjem svog imena i prezimena i\, po mogućnosti\, naziva (ili kratice) tijela javne vlasti iz kojeg dolaze. \nOd dodatne opreme polaznicima su potrebni samo zvučnici ili slušalice.
URL:https://pristupinfo.hr/event/webinar-proaktivna-objava-informacija-6/
CATEGORIES:Edukacije
END:VEVENT
BEGIN:VEVENT
DTSTART;TZID=UTC:20261113T140000
DTEND;TZID=UTC:20261113T144500
DTSTAMP:20260422T233654
CREATED:20260304T101710Z
LAST-MODIFIED:20260304T102043Z
UID:10000254-1794578400-1794581100@pristupinfo.hr
SUMMARY:Webinar "Provedba testa razmjernosti i javnog interesa"
DESCRIPTION:Za praćenje webinara potrebno je instalirati Adobe Connect aplikaciju koju je moguće preuzeti na sljedećim poveznicama: \n\nZa Windows računala (32&64bit)\nZa Apple računala (MacOS)\nZa Android mobitele (Google trgovina)\nZa iPhone mobitele (App Store)\n\nInstalaciju je potrebno napraviti samo prvi put. Po instalaciji\, polaznici se na webinar spajaju putem poveznice https://connect.carnet.hr/informiranje/\, a potom prijavljuju kao GOST (nije potrebna lozinka) te unošenjem svog imena i prezimena i\, po mogućnosti\, naziva (ili kratice) tijela javne vlasti iz kojeg dolaze. \nOd dodatne opreme polaznicima su potrebni samo zvučnici ili slušalice.
URL:https://pristupinfo.hr/event/webinar-provedba-testa-razmjernosti-i-javnog-interesa-4/
CATEGORIES:Edukacije
END:VEVENT
BEGIN:VEVENT
DTSTART;TZID=UTC:20261120T140000
DTEND;TZID=UTC:20261120T144500
DTSTAMP:20260422T233654
CREATED:20260304T103013Z
LAST-MODIFIED:20260304T103013Z
UID:10000256-1795183200-1795185900@pristupinfo.hr
SUMMARY:Webinar "Otvoreni podaci"
DESCRIPTION:Za praćenje webinara potrebno je instalirati Adobe Connect aplikaciju koju je moguće preuzeti na sljedećim poveznicama: \n\nZa Windows računala (32&64bit)\nZa Apple računala (MacOS)\nZa Android mobitele (Google trgovina)\nZa iPhone mobitele (App Store)\n\nInstalaciju je potrebno napraviti samo prvi put. Po instalaciji\, polaznici se na webinar spajaju putem poveznice https://connect.carnet.hr/informiranje/\, a potom prijavljuju kao GOST (nije potrebna lozinka) te unošenjem svog imena i prezimena i\, po mogućnosti\, naziva (ili kratice) tijela javne vlasti iz kojeg dolaze. \nOd dodatne opreme polaznicima su potrebni samo zvučnici ili slušalice.
URL:https://pristupinfo.hr/event/webinar-otvoreni-podaci-2/
CATEGORIES:Edukacije
END:VEVENT
END:VCALENDAR