BEGIN:VCALENDAR
VERSION:2.0
PRODID:-//Povjerenik za informiranje - ECPv6.15.17//NONSGML v1.0//EN
CALSCALE:GREGORIAN
METHOD:PUBLISH
X-ORIGINAL-URL:https://pristupinfo.hr
X-WR-CALDESC:Događaji za Povjerenik za informiranje
REFRESH-INTERVAL;VALUE=DURATION:PT1H
X-Robots-Tag:noindex
X-PUBLISHED-TTL:PT1H
BEGIN:VTIMEZONE
TZID:UTC
BEGIN:STANDARD
TZOFFSETFROM:+0000
TZOFFSETTO:+0000
TZNAME:UTC
DTSTART:20250101T000000
END:STANDARD
END:VTIMEZONE
BEGIN:VEVENT
DTSTART;TZID=UTC:20261016T140000
DTEND;TZID=UTC:20261016T144500
DTSTAMP:20260422T221330
CREATED:20260304T101554Z
LAST-MODIFIED:20260304T101554Z
UID:10000253-1792159200-1792161900@pristupinfo.hr
SUMMARY:Webinar "Provedba testa razmjernosti i javnog interesa"
DESCRIPTION:Za praćenje webinara potrebno je instalirati Adobe Connect aplikaciju koju je moguće preuzeti na sljedećim poveznicama: \n\nZa Windows računala (32&64bit)\nZa Apple računala (MacOS)\nZa Android mobitele (Google trgovina)\nZa iPhone mobitele (App Store)\n\nInstalaciju je potrebno napraviti samo prvi put. Po instalaciji\, polaznici se na webinar spajaju putem poveznice https://connect.carnet.hr/informiranje/\, a potom prijavljuju kao GOST (nije potrebna lozinka) te unošenjem svog imena i prezimena i\, po mogućnosti\, naziva (ili kratice) tijela javne vlasti iz kojeg dolaze. \nOd dodatne opreme polaznicima su potrebni samo zvučnici ili slušalice.
URL:https://pristupinfo.hr/event/webinar-provedba-testa-razmjernosti-i-javnog-interesa-3/
CATEGORIES:Edukacije
END:VEVENT
BEGIN:VEVENT
DTSTART;TZID=UTC:20261022T080000
DTEND;TZID=UTC:20261022T160000
DTSTAMP:20260422T221330
CREATED:20260304T092528Z
LAST-MODIFIED:20260304T092528Z
UID:10000244-1792656000-1792684800@pristupinfo.hr
SUMMARY:DŠJU – Upravljanje otvorenim podacima
DESCRIPTION:Ciljevi i svrha\nSvrha edukacije je osiguranje kvalitetnog i cjelovitog ispunjavanje obveza objave podataka za ponovnu uporabu sukladno Zakonu pravu na pristup informacijama (“Narodne novine“\, broj 25/13\, 85/15 i 69/22\, dalje u tekstu: Zakon) te u kontekstu Akcijskog plana za provedbu Politike otvorenih podataka. Navedeno uključuje objavu podataka na Portalu otvorenih podataka i na mrežnim stranicama tijela javne vlasti\, kao i objavu popisa baza i registara te skupova podataka tijela javne vlasti (asset liste). \nCilj edukacije je osposobiti polaznike za učinkovitu primjenu Zakona u odnosu na proaktivnu objavu podataka za ponovnu uporabu. Kroz interaktivne prezentacije s primjerima dobre prakse u objavi baza i registara\, praktičan rad polaznika i raspravu o pojedinim aspektima ponovne uporabe\, polaznici će steći potrebna znanja i praktične vještine koje će im omogućiti stručno obavljanje poslova koji se odnose na obvezu objave  podataka za ponovnu uporabu. \nSadržaj\n\nKoncept ponovne uporabe i otvorenih podataka\nMeđunarodni i domaći pravni okvir za osiguranje ponovne uporabe\nPrepoznavanje skupova pogodnih za ponovnu uporabu\nPrepoznavanje visokovrijednih skupova podataka\nStandardi pristupa podacima i njihovo korištenje\nLicenciranje\nPriprema izrada asset lista\nKorištenje Portala otvorenih podataka (objava i pristup podacima)\n\nCiljna skupina\n\nSlužbenici za informiranje\nSlužbenici zaduženi za objavu sadržaja na internetskim stranicama\, službenici zaduženi za održavanje baza i registara\n\nMjesto održavanja\nRadionica će se održati u Državnoj školi za javnu upravu\, Medulićeva 36\, Zagreb.
URL:https://pristupinfo.hr/event/dsju-upravljanje-otvorenim-podacima-3/
LOCATION:Državna škola za javnu upravu\, Medulićeva 36\, Zagreb\, 10000\, Croatia (Local Name: Hrvatska)
CATEGORIES:Edukacije
END:VEVENT
BEGIN:VEVENT
DTSTART;TZID=UTC:20261023T090000
DTEND;TZID=UTC:20261023T160000
DTSTAMP:20260422T221330
CREATED:20260304T090036Z
LAST-MODIFIED:20260304T090036Z
UID:10000239-1792746000-1792771200@pristupinfo.hr
SUMMARY:DŠJU – Pravo na pristup informacijama (napredni modul)
DESCRIPTION:Ciljevi i svrha\nSvrha edukacije je stjecanje praktičnih znanja\, vještina i sposobnosti za primjenu Zakona o pravu na pristup informacijama i zakonitog postupanja tijela javne vlasti. \nCiljevi edukacije: \n\npružiti polaznicima znanje i vještine koje će im omogućiti stručno obavljanje poslova rješavanja zahtjeva za pristup informacijama\, uz praktične savjete za provedbu pojedinih zakonskih odredbi te odgovore na pitanja\nkroz raspravu\, predstavljanje konkretnih primjera iz prakse  i uz postavljanja pitanja tijekom cijele radionice\, upoznati polaznike s pravilnim načinom rješavanja zahtjeva u pojedinim fazama postupka\nvježbe izrade primjeraka akata iz različitih faza postupka ostvarivanja prava na pristup informacijama\n\n\n\nSadržaj\nPolaznici će\, kroz predavanja\, vježbe\, praktične primjere i dosadašnju praksu\, usvajati znanja i vještine koje su potrebne  za provedbu Zakona o pravu na pristup informacijama. Kroz aktivne vježbe upoznat će kako se na pravilan način zaprimaju i evidentiraju podneseni zahtjevi za pristup informacijama\, kako se provjerava urednost i potpunost zahtjeva\, način utvrđivanja primjene Zakona o pravu na pristup informacijama\, utvrđivanje zlouporabe prava na pristup informacijama\, postupak i način provedbe testa razmjernosti i javnog interesa\, donošenja rješenja i rješavanju zahtjeva za dopunu i ispravak te rješavanja studije slučaja. \n\n\nCiljna skupina\n\nSlužbenici za informiranje koji su prethodno završili program “Pravo na pristup informacijama – osnovni modul”\nSvi službenici koji u svom radu primjenjuju Zakon o pravu na pristup informacijama\, a prethodno su pohađali program “Pravo na pristup informacijama – osnovni modul”\n\nMjesto održavanja\nRadionica će se održati u Državnoj školi za javnu upravu\, Medulićeva 36\, Zagreb.
URL:https://pristupinfo.hr/event/dsju-pravo-na-pristup-informacijama-napredni-modul-12/
LOCATION:Državna škola za javnu upravu\, Medulićeva 36\, Zagreb\, 10000\, Croatia (Local Name: Hrvatska)
CATEGORIES:Edukacije
END:VEVENT
BEGIN:VEVENT
DTSTART;TZID=UTC:20261028T140000
DTEND;TZID=UTC:20261028T144500
DTSTAMP:20260422T221330
CREATED:20260304T094929Z
LAST-MODIFIED:20260304T094929Z
UID:10000248-1793196000-1793198700@pristupinfo.hr
SUMMARY:Webinar “Postupanje po zahtjevu kada predmet zahtjeva nije informacija u zakonskom smislu i kada tijelo ne posjeduje tražene informacije”
DESCRIPTION:Za praćenje webinara potrebno je instalirati Adobe Connect aplikaciju koju je moguće preuzeti na sljedećim poveznicama: \n\nZa Windows računala (32&64bit)\nZa Apple računala (MacOS)\nZa Android mobitele (Google trgovina)\nZa iPhone mobitele (App Store)\n\nInstalaciju je potrebno napraviti samo prvi put. Po instalaciji\, polaznici se na webinar spajaju putem poveznice https://connect.carnet.hr/informiranje/\, a potom prijavljuju kao GOST (nije potrebna lozinka) te unošenjem svog imena i prezimena i\, po mogućnosti\, naziva (ili kratice) tijela javne vlasti iz kojeg dolaze. \nOd dodatne opreme polaznicima su potrebni samo zvučnici ili slušalice.
URL:https://pristupinfo.hr/event/webinar-postupanje-po-zahtjevu-kada-predmet-zahtjeva-nije-informacija-u-zakonskom-smislu-i-kada-tijelo-ne-posjeduje-trazene-informacije-2/
CATEGORIES:Edukacije
END:VEVENT
END:VCALENDAR