BEGIN:VCALENDAR
VERSION:2.0
PRODID:-//Povjerenik za informiranje - ECPv6.15.17//NONSGML v1.0//EN
CALSCALE:GREGORIAN
METHOD:PUBLISH
X-ORIGINAL-URL:https://pristupinfo.hr
X-WR-CALDESC:Događaji za Povjerenik za informiranje
REFRESH-INTERVAL;VALUE=DURATION:PT1H
X-Robots-Tag:noindex
X-PUBLISHED-TTL:PT1H
BEGIN:VTIMEZONE
TZID:UTC
BEGIN:STANDARD
TZOFFSETFROM:+0000
TZOFFSETTO:+0000
TZNAME:UTC
DTSTART:20250101T000000
END:STANDARD
END:VTIMEZONE
BEGIN:VEVENT
DTSTART;TZID=UTC:20260313T140000
DTEND;TZID=UTC:20260313T144500
DTSTAMP:20260425T161041
CREATED:20260226T105226Z
LAST-MODIFIED:20260304T093730Z
UID:10000233-1773410400-1773413100@pristupinfo.hr
SUMMARY:Webinar "Osobni podaci i pristup informacijama"
DESCRIPTION:Za praćenje webinara potrebno je instalirati Adobe Connect aplikaciju koju je moguće preuzeti na sljedećim poveznicama: \n\nZa Windows računala (32&64bit)\nZa Apple računala (MacOS)\nZa Android mobitele (Google trgovina)\nZa iPhone mobitele (App Store)\n\nInstalaciju je potrebno napraviti samo prvi put. Po instalaciji\, polaznici se na webinar spajaju putem poveznice https://connect.carnet.hr/informiranje/\, a potom prijavljuju kao GOST (nije potrebna lozinka) te unošenjem svog imena i prezimena i\, po mogućnosti\, naziva (ili kratice) tijela javne vlasti iz kojeg dolaze. \nOd dodatne opreme polaznicima su potrebni samo zvučnici ili slušalice.
URL:https://pristupinfo.hr/event/webinar-osobni-podaci-i-pristup-informacijama-6/
CATEGORIES:Edukacije
END:VEVENT
BEGIN:VEVENT
DTSTART;TZID=UTC:20260319T090000
DTEND;TZID=UTC:20260319T160000
DTSTAMP:20260425T161041
CREATED:20260304T085248Z
LAST-MODIFIED:20260304T085248Z
UID:10000237-1773910800-1773936000@pristupinfo.hr
SUMMARY:DŠJU - Pravo na pristup informacijama (napredni modul)
DESCRIPTION:Ciljevi i svrha\nSvrha edukacije je stjecanje praktičnih znanja\, vještina i sposobnosti za primjenu Zakona o pravu na pristup informacijama i zakonitog postupanja tijela javne vlasti. \nCiljevi edukacije: \n\npružiti polaznicima znanje i vještine koje će im omogućiti stručno obavljanje poslova rješavanja zahtjeva za pristup informacijama\, uz praktične savjete za provedbu pojedinih zakonskih odredbi te odgovore na pitanja\nkroz raspravu\, predstavljanje konkretnih primjera iz prakse  i uz postavljanja pitanja tijekom cijele radionice\, upoznati polaznike s pravilnim načinom rješavanja zahtjeva u pojedinim fazama postupka\nvježbe izrade primjeraka akata iz različitih faza postupka ostvarivanja prava na pristup informacijama\n\n\n\nSadržaj\nPolaznici će\, kroz predavanja\, vježbe\, praktične primjere i dosadašnju praksu\, usvajati znanja i vještine koje su potrebne  za provedbu Zakona o pravu na pristup informacijama. Kroz aktivne vježbe upoznat će kako se na pravilan način zaprimaju i evidentiraju podneseni zahtjevi za pristup informacijama\, kako se provjerava urednost i potpunost zahtjeva\, način utvrđivanja primjene Zakona o pravu na pristup informacijama\, utvrđivanje zlouporabe prava na pristup informacijama\, postupak i način provedbe testa razmjernosti i javnog interesa\, donošenja rješenja i rješavanju zahtjeva za dopunu i ispravak te rješavanja studije slučaja. \n\n\nCiljna skupina\n\nSlužbenici za informiranje koji su prethodno završili program “Pravo na pristup informacijama – osnovni modul”\nSvi službenici koji u svom radu primjenjuju Zakon o pravu na pristup informacijama\, a prethodno su pohađali program “Pravo na pristup informacijama – osnovni modul”\n\nMjesto održavanja\nRadionica će se održati u Državnoj školi za javnu upravu\, Medulićeva 36\, Zagreb\, Dvorana Cetina\, II.kat. \nPrijava na program
URL:https://pristupinfo.hr/event/dsju-pravo-na-pristup-informacijama-napredni-modul-10/
CATEGORIES:Edukacije
END:VEVENT
BEGIN:VEVENT
DTSTART;TZID=UTC:20260320T090000
DTEND;TZID=UTC:20260320T160000
DTSTAMP:20260425T161041
CREATED:20260304T084740Z
LAST-MODIFIED:20260304T092823Z
UID:10000236-1773997200-1774022400@pristupinfo.hr
SUMMARY:DŠJU - Provedba savjetovanja s javnošću sukladno odredbama Zakona o pravu na pristup informacijama
DESCRIPTION:Ciljevi i svrha\nSvrha programa je stručno osposobljavanje i usavršavanje službenika za informiranje tijela javne vlasti za primjenu odredbi Zakona o pravu na pristup informacijama u području savjetovanja s javnošću\, s ciljem standardizacije primjene Zakona i drugih propisa i dosegnutih standarda te zakonitog postupanja tijela javne vlasti u ispunjenju ove zakonske obveze. \nCilj edukacije je pružiti polaznicima znanje i vještine koje će im omogućiti stručno obavljanje poslova koji se odnose na zakonsku obvezu savjetovanja s javnošću te redovitog objavljivanja informacija kroz razradu pravnog okvira i pojašnjenja pojedinih situacija u postupanju. Također je cilj kroz raspravu\, predstavljanje konkretnih primjera iz prakse te ukazivanjem na postojeće nedostatke na internetskim stranicama tijela javne vlasti\, upoznati polaznike s rješenjima potrebnim za što učinkovitiji i kvalitetniji rad u primjeni Zakona o pravu na pristup informacijama kao instrumenta osiguravanja otvorenosti i transparentnosti u radu tijela javne vlasti i procesu donošenja odluka. \n\n\nSadržaj\n\nMeđunarodni i domaći pravni okvir savjetovanja s javnošću\nIspunjenje obveze savjetovanja s javnošću\nPovjerenik za informiranje i savjetovanje s javnošću\nPraksa Povjerenika za informiranje\nVježbe\nPrikaz praćenja internetskih stranica polaznika TJV\n\n\n\nCiljna skupina\n\nKoordinatori za savjetovanje i drugi službenici koji primjenjuju ZPPI\nSlužbenici za informiranje\nSlužbenici zaduženi za pripremu i objavu podataka na službenim internetskim stranicama tijela javne vlasti\n\nMjesto održavanja\nRadionica će se održati u Državnoj školi za javnu upravu\, Medulićeva 36\, Zagreb\, Dvorana Cetina\, II.kat. \nPrijava na program\n 
URL:https://pristupinfo.hr/event/dsju-provedba-savjetovanja-s-javnoscu-sukladno-odredbama-zakona-o-pravu-na-pristup-informacijama-4/
LOCATION:Državna škola za javnu upravu\, Medulićeva 36\, Zagreb\, 10000\, Croatia (Local Name: Hrvatska)
CATEGORIES:Edukacije
END:VEVENT
END:VCALENDAR