BEGIN:VCALENDAR
VERSION:2.0
PRODID:-//Povjerenik za informiranje - ECPv6.15.17//NONSGML v1.0//EN
CALSCALE:GREGORIAN
METHOD:PUBLISH
X-WR-CALNAME:Povjerenik za informiranje
X-ORIGINAL-URL:https://pristupinfo.hr
X-WR-CALDESC:Događaji za Povjerenik za informiranje
REFRESH-INTERVAL;VALUE=DURATION:PT1H
X-Robots-Tag:noindex
X-PUBLISHED-TTL:PT1H
BEGIN:VTIMEZONE
TZID:UTC
BEGIN:STANDARD
TZOFFSETFROM:+0000
TZOFFSETTO:+0000
TZNAME:UTC
DTSTART:20230101T000000
END:STANDARD
END:VTIMEZONE
BEGIN:VEVENT
DTSTART;VALUE=DATE:20240909
DTEND;VALUE=DATE:20240914
DTSTAMP:20260420T091309
CREATED:20240226T143547Z
LAST-MODIFIED:20240226T143547Z
UID:10000134-1725840000-1726271999@pristupinfo.hr
SUMMARY:DŠJU (Moodle platforma): Ponovna uporaba informacija i otvoreni podaci
DESCRIPTION:
URL:https://pristupinfo.hr/event/dsju-moodle-platforma-ponovna-uporaba-informacija-i-otvoreni-podaci-4/
END:VEVENT
BEGIN:VEVENT
DTSTART;TZID=UTC:20240913T140000
DTEND;TZID=UTC:20240913T144500
DTSTAMP:20260420T091309
CREATED:20240226T140257Z
LAST-MODIFIED:20240226T140257Z
UID:10000181-1726236000-1726238700@pristupinfo.hr
SUMMARY:WEBINAR: Postupanje po zahtjevima za pristup informacijama
DESCRIPTION:
URL:https://pristupinfo.hr/event/webinar-postupanje-po-zahtjevima-za-pristup-informacijama-3/
END:VEVENT
BEGIN:VEVENT
DTSTART;TZID=UTC:20240919T140000
DTEND;TZID=UTC:20240919T144500
DTSTAMP:20260420T091309
CREATED:20240226T141039Z
LAST-MODIFIED:20240226T141039Z
UID:10000182-1726754400-1726757100@pristupinfo.hr
SUMMARY:WEBINAR: Otvoreni podaci i informacije za ponovnu uporabu
DESCRIPTION:
URL:https://pristupinfo.hr/event/webinar-otvoreni-podaci-i-informacije-za-ponovnu-uporabu-4/
END:VEVENT
END:VCALENDAR