BEGIN:VCALENDAR
VERSION:2.0
PRODID:-//Povjerenik za informiranje - ECPv6.15.17//NONSGML v1.0//EN
CALSCALE:GREGORIAN
METHOD:PUBLISH
X-WR-CALNAME:Povjerenik za informiranje
X-ORIGINAL-URL:https://pristupinfo.hr
X-WR-CALDESC:Događaji za Povjerenik za informiranje
REFRESH-INTERVAL;VALUE=DURATION:PT1H
X-Robots-Tag:noindex
X-PUBLISHED-TTL:PT1H
BEGIN:VTIMEZONE
TZID:UTC
BEGIN:STANDARD
TZOFFSETFROM:+0000
TZOFFSETTO:+0000
TZNAME:UTC
DTSTART:20250101T000000
END:STANDARD
END:VTIMEZONE
BEGIN:VEVENT
DTSTART;TZID=UTC:20260320T090000
DTEND;TZID=UTC:20260320T160000
DTSTAMP:20260424T200025
CREATED:20260304T084740Z
LAST-MODIFIED:20260304T092823Z
UID:10000236-1773997200-1774022400@pristupinfo.hr
SUMMARY:DŠJU - Provedba savjetovanja s javnošću sukladno odredbama Zakona o pravu na pristup informacijama
DESCRIPTION:Ciljevi i svrha\nSvrha programa je stručno osposobljavanje i usavršavanje službenika za informiranje tijela javne vlasti za primjenu odredbi Zakona o pravu na pristup informacijama u području savjetovanja s javnošću\, s ciljem standardizacije primjene Zakona i drugih propisa i dosegnutih standarda te zakonitog postupanja tijela javne vlasti u ispunjenju ove zakonske obveze. \nCilj edukacije je pružiti polaznicima znanje i vještine koje će im omogućiti stručno obavljanje poslova koji se odnose na zakonsku obvezu savjetovanja s javnošću te redovitog objavljivanja informacija kroz razradu pravnog okvira i pojašnjenja pojedinih situacija u postupanju. Također je cilj kroz raspravu\, predstavljanje konkretnih primjera iz prakse te ukazivanjem na postojeće nedostatke na internetskim stranicama tijela javne vlasti\, upoznati polaznike s rješenjima potrebnim za što učinkovitiji i kvalitetniji rad u primjeni Zakona o pravu na pristup informacijama kao instrumenta osiguravanja otvorenosti i transparentnosti u radu tijela javne vlasti i procesu donošenja odluka. \n\n\nSadržaj\n\nMeđunarodni i domaći pravni okvir savjetovanja s javnošću\nIspunjenje obveze savjetovanja s javnošću\nPovjerenik za informiranje i savjetovanje s javnošću\nPraksa Povjerenika za informiranje\nVježbe\nPrikaz praćenja internetskih stranica polaznika TJV\n\n\n\nCiljna skupina\n\nKoordinatori za savjetovanje i drugi službenici koji primjenjuju ZPPI\nSlužbenici za informiranje\nSlužbenici zaduženi za pripremu i objavu podataka na službenim internetskim stranicama tijela javne vlasti\n\nMjesto održavanja\nRadionica će se održati u Državnoj školi za javnu upravu\, Medulićeva 36\, Zagreb\, Dvorana Cetina\, II.kat. \nPrijava na program\n 
URL:https://pristupinfo.hr/event/dsju-provedba-savjetovanja-s-javnoscu-sukladno-odredbama-zakona-o-pravu-na-pristup-informacijama-4/
LOCATION:Državna škola za javnu upravu\, Medulićeva 36\, Zagreb\, 10000\, Croatia (Local Name: Hrvatska)
CATEGORIES:Edukacije
END:VEVENT
END:VCALENDAR