BEGIN:VCALENDAR
VERSION:2.0
PRODID:-//Povjerenik za informiranje - ECPv6.15.17//NONSGML v1.0//EN
CALSCALE:GREGORIAN
METHOD:PUBLISH
X-ORIGINAL-URL:https://pristupinfo.hr
X-WR-CALDESC:Događaji za Povjerenik za informiranje
REFRESH-INTERVAL;VALUE=DURATION:PT1H
X-Robots-Tag:noindex
X-PUBLISHED-TTL:PT1H
BEGIN:VTIMEZONE
TZID:UTC
BEGIN:STANDARD
TZOFFSETFROM:+0000
TZOFFSETTO:+0000
TZNAME:UTC
DTSTART:20220101T000000
END:STANDARD
END:VTIMEZONE
BEGIN:VEVENT
DTSTART;TZID=UTC:20240516T140000
DTEND;TZID=UTC:20240516T144500
DTSTAMP:20260419T202323
CREATED:20240226T140022Z
LAST-MODIFIED:20240226T140022Z
UID:10000179-1715868000-1715870700@pristupinfo.hr
SUMMARY:WEBINAR: Otvoreni podaci i informacije za ponovnu uporabu
DESCRIPTION:
URL:https://pristupinfo.hr/event/webinar-otvoreni-podaci-i-informacije-za-ponovnu-uporabu-3/
END:VEVENT
BEGIN:VEVENT
DTSTART;TZID=UTC:20240516T080000
DTEND;TZID=UTC:20240517T160000
DTSTAMP:20260419T202323
CREATED:20240226T142348Z
LAST-MODIFIED:20240226T142348Z
UID:10000189-1715846400-1715961600@pristupinfo.hr
SUMMARY:DŠJU: Pravo na pristup informacijama – Osnovni modul
DESCRIPTION:
URL:https://pristupinfo.hr/event/dsju-pravo-na-pristup-informacijama-osnovni-modul-5/
END:VEVENT
BEGIN:VEVENT
DTSTART;TZID=UTC:20240510T140000
DTEND;TZID=UTC:20240510T144500
DTSTAMP:20260419T202323
CREATED:20240226T135909Z
LAST-MODIFIED:20240226T135909Z
UID:10000178-1715349600-1715352300@pristupinfo.hr
SUMMARY:WEBINAR: Poslovna\, profesionalna i porezna tajna
DESCRIPTION:
URL:https://pristupinfo.hr/event/webinar-poslovna-profesionalna-i-porezna-tajna-3/
END:VEVENT
BEGIN:VEVENT
DTSTART;TZID=UTC:20240508T140000
DTEND;TZID=UTC:20240508T144500
DTSTAMP:20260419T202323
CREATED:20240226T135751Z
LAST-MODIFIED:20240226T135751Z
UID:10000177-1715176800-1715179500@pristupinfo.hr
SUMMARY:WEBINAR: Savjetovanje s javnošću
DESCRIPTION:
URL:https://pristupinfo.hr/event/webinar-savjetovanje-s-javnoscu-2/
END:VEVENT
BEGIN:VEVENT
DTSTART;TZID=UTC:20240424T140000
DTEND;TZID=UTC:20240424T144500
DTSTAMP:20260419T202323
CREATED:20240226T135646Z
LAST-MODIFIED:20240411T081213Z
UID:10000176-1713967200-1713969900@pristupinfo.hr
SUMMARY:WEBINAR: Proaktivna objava informacija
DESCRIPTION:
URL:https://pristupinfo.hr/event/webinar-proaktivna-objava-informacija/
END:VEVENT
BEGIN:VEVENT
DTSTART;VALUE=DATE:20240422
DTEND;VALUE=DATE:20240427
DTSTAMP:20260419T202323
CREATED:20240226T143317Z
LAST-MODIFIED:20240226T143317Z
UID:10000130-1713744000-1714175999@pristupinfo.hr
SUMMARY:DŠJU (Moodle platforma): Ponovna uporaba informacija i otvoreni podaci
DESCRIPTION:
URL:https://pristupinfo.hr/event/dsju-moodle-platforma-ponovna-uporaba-informacija-i-otvoreni-podaci-2/
END:VEVENT
BEGIN:VEVENT
DTSTART;TZID=UTC:20240419T080000
DTEND;TZID=UTC:20240419T160000
DTSTAMP:20260419T202323
CREATED:20240226T142531Z
LAST-MODIFIED:20240226T142531Z
UID:10000120-1713513600-1713542400@pristupinfo.hr
SUMMARY:DŠJU: Pravo na pristup informacijama – Napredni modul
DESCRIPTION:
URL:https://pristupinfo.hr/event/dsju-pravo-na-pristup-informacijama-napredni-modul-5/
END:VEVENT
BEGIN:VEVENT
DTSTART;TZID=UTC:20240412T140000
DTEND;TZID=UTC:20240412T144500
DTSTAMP:20260419T202323
CREATED:20240226T135501Z
LAST-MODIFIED:20240226T135501Z
UID:10000175-1712930400-1712933100@pristupinfo.hr
SUMMARY:WEBINAR: Osobni podaci i pristup informacijama
DESCRIPTION:
URL:https://pristupinfo.hr/event/webinar-osobni-podaci-i-pristup-informacijama-2/
END:VEVENT
BEGIN:VEVENT
DTSTART;TZID=UTC:20240410T140000
DTEND;TZID=UTC:20240410T144500
DTSTAMP:20260419T202323
CREATED:20240226T134517Z
LAST-MODIFIED:20240226T134517Z
UID:10000174-1712757600-1712760300@pristupinfo.hr
SUMMARY:WEBINAR: Evidentiranje zahtjeva u službeni upisnik
DESCRIPTION:
URL:https://pristupinfo.hr/event/webinar-evidentiranje-zahtjeva-u-sluzbeni-upisnik-2/
END:VEVENT
BEGIN:VEVENT
DTSTART;TZID=UTC:20240321T090000
DTEND;TZID=UTC:20240322T160000
DTSTAMP:20260419T202323
CREATED:20240226T142236Z
LAST-MODIFIED:20240226T142236Z
UID:10000188-1711011600-1711123200@pristupinfo.hr
SUMMARY:DŠJU: Pravo na pristup informacijama – Osnovni modul
DESCRIPTION:
URL:https://pristupinfo.hr/event/dsju-pravo-na-pristup-informacijama-osnovni-modul-4/
END:VEVENT
BEGIN:VEVENT
DTSTART;VALUE=DATE:20240318
DTEND;VALUE=DATE:20240323
DTSTAMP:20260419T202323
CREATED:20240226T143212Z
LAST-MODIFIED:20240226T143212Z
UID:10000128-1710720000-1711151999@pristupinfo.hr
SUMMARY:DŠJU (Moodle platforma): Ponovna uporaba informacija i otvoreni podaci
DESCRIPTION:
URL:https://pristupinfo.hr/event/dsju-moodle-platforma-ponovna-uporaba-informacija-i-otvoreni-podaci/
END:VEVENT
BEGIN:VEVENT
DTSTART;TZID=UTC:20240315T140000
DTEND;TZID=UTC:20240315T144500
DTSTAMP:20260419T202323
CREATED:20240226T134411Z
LAST-MODIFIED:20240226T134411Z
UID:10000173-1710511200-1710513900@pristupinfo.hr
SUMMARY:WEBINAR: Postupanje po zahtjevima za pristup informacijama
DESCRIPTION:
URL:https://pristupinfo.hr/event/webinar-postupanje-po-zahtjevima-za-pristup-informacijama-2/
END:VEVENT
BEGIN:VEVENT
DTSTART;TZID=UTC:20240308T090000
DTEND;TZID=UTC:20240308T120000
DTSTAMP:20260419T202323
CREATED:20240226T144016Z
LAST-MODIFIED:20240226T144016Z
UID:10000140-1709888400-1709899200@pristupinfo.hr
SUMMARY:DŠJU: Provedba savjetovanja s javnošću sukladno odredbama Zakona o pravu na pristup informacijama
DESCRIPTION:
URL:https://pristupinfo.hr/event/dsju-provedba-savjetovanja-s-javnoscu-sukladno-odredbama-zakona-o-pravu-na-pristup-informacijama/
END:VEVENT
BEGIN:VEVENT
DTSTART;TZID=UTC:20231215T140000
DTEND;TZID=UTC:20231215T140000
DTSTAMP:20260419T202323
CREATED:20230302T103143Z
LAST-MODIFIED:20231102T092909Z
UID:10000154-1702648800-1702648800@pristupinfo.hr
SUMMARY:Webinar: Javnost rada
DESCRIPTION:Webinar je namijenjen službenicima za informiranje i drugim zaposlenicima tijela javne vlasti koji u svom radu primjenjuju Zakon o pravu na pristup informacijama. Predviđeno trajanje webinara je 45 minuta. Webinaru se moguće priključiti na poveznici https://connect.carnet.hr/informiranje/ (preko Adobe Connect aplikacije)\, sa svojim imenom i prezimenom kao gost (nije potrebna lozinka)\, dok su od dodatne opreme potrebni samo zvučnici ili slušalice.
URL:https://pristupinfo.hr/event/webinar-javnost-rada/
END:VEVENT
BEGIN:VEVENT
DTSTART;TZID=UTC:20231201T140000
DTEND;TZID=UTC:20231201T144500
DTSTAMP:20260419T202323
CREATED:20230302T103424Z
LAST-MODIFIED:20230302T112304Z
UID:10000156-1701439200-1701441900@pristupinfo.hr
SUMMARY:Webinar: Postupanje po zahtjevima za ponovnu uporabu informacija
DESCRIPTION:Webinar je namijenjen službenicima za informiranje i drugim zaposlenicima tijela javne vlasti koji u svom radu primjenjuju Zakon o pravu na pristup informacijama. Predviđeno trajanje webinara je 45 minuta. Webinaru se moguće priključiti na poveznici https://connect.carnet.hr/informiranje/ (preko Adobe Connect aplikacije)\, sa svojim imenom i prezimenom kao gost (nije potrebna lozinka)\, dok su od dodatne opreme potrebni samo zvučnici ili slušalice.
URL:https://pristupinfo.hr/event/webinar-postupanje-po-zahtjevima-za-ponovnu-uporabu-informacija/
END:VEVENT
BEGIN:VEVENT
DTSTART;TZID=UTC:20231129T090000
DTEND;TZID=UTC:20231130T160000
DTSTAMP:20260419T202323
CREATED:20231110T140738Z
LAST-MODIFIED:20231110T140738Z
UID:10000172-1701248400-1701360000@pristupinfo.hr
SUMMARY:DŠJU: Osnovni modul “Pravo na pristup informacijama”\, 29. i 30. studenog 2023.
DESCRIPTION:
URL:https://pristupinfo.hr/event/dsju-osnovni-modul-pravo-na-pristup-informacijama-29-i-30-studenog-2023/
END:VEVENT
BEGIN:VEVENT
DTSTART;TZID=UTC:20231122T140000
DTEND;TZID=UTC:20231122T144500
DTSTAMP:20260419T202323
CREATED:20230302T103311Z
LAST-MODIFIED:20230302T103311Z
UID:10000155-1700661600-1700664300@pristupinfo.hr
SUMMARY:Webinar: Otvoreni podaci i informacije za ponovnu uporabu
DESCRIPTION:Webinar je namijenjen službenicima za informiranje i drugim zaposlenicima tijela javne vlasti koji u svom radu primjenjuju Zakon o pravu na pristup informacijama. Predviđeno trajanje webinara je 45 minuta. Webinaru se moguće priključiti na poveznici https://connect.carnet.hr/informiranje/ (preko Adobe Connect aplikacije)\, sa svojim imenom i prezimenom kao gost (nije potrebna lozinka)\, dok su od dodatne opreme potrebni samo zvučnici ili slušalice.
URL:https://pristupinfo.hr/event/webinar-otvoreni-podaci-i-informacije-za-ponovnu-uporabu-2/
END:VEVENT
BEGIN:VEVENT
DTSTART;VALUE=DATE:20231113
DTEND;VALUE=DATE:20231114
DTSTAMP:20260419T202323
CREATED:20230302T131855Z
LAST-MODIFIED:20230302T132316Z
UID:10000171-1699833600-1699919999@pristupinfo.hr
SUMMARY:Ponovna uporaba informacija i otvoreni podaci (e-tečaj)
DESCRIPTION:Svrha e-tečaja je stručno osposobljavanje i usavršavanje službenika u tijelima javne vlasti za primjenu odredbi Zakona o pravu na pristup informacijama u dijelu u kojem se propisuje obveza proaktivne objave informacija na internetskoj stranici na lako pretraživ način i u strojno čitljivom obliku\, kao i u identifikaciji i objavi skupova podataka radi stavljanja na raspolaganje informacija za ponovnu uporabu te pružanja informacija na zahtjev korisnika. \nTijekom e-tečaja polaznici će se upoznati sa zakonskim i institucionalnim okvirom za ponovnu uporabu\, obvezama tijela javne vlasti u osiguranju ponovne uporabe informacija\, osiguranju kvalitete i otvorenosti podataka\, uvjetima ponovne uporabe podataka (licenciranje\, Otvorena dozvola\, druge vrste dozvola) te ostvarivanjem i zaštitom prava na ponovnu uporabu (ograničenja prava\, pravna zaštita u postupku ostvarivanja prava na ponovnu uporabu\, troškovi ponovne uporabe\, isključiva prava). \nUkupno trajanje e-tečaja je 4 školska sata\, a polaznici mogu pohađati tečaj vlastitim tempom tijekom pet dana u zadanom razdoblju od 13. do 17. studenog 2023. \nPrijava na tečaj moguća je isključivo preko online sustava DŠJU.
URL:https://pristupinfo.hr/event/ponovna-uporaba-informacija-i-otvoreni-podaci-e-tecaj-6/
END:VEVENT
BEGIN:VEVENT
DTSTART;TZID=UTC:20231110T140000
DTEND;TZID=UTC:20231110T144500
DTSTAMP:20260419T202323
CREATED:20230302T103017Z
LAST-MODIFIED:20230302T103017Z
UID:10000153-1699624800-1699627500@pristupinfo.hr
SUMMARY:Webinar: Klasificirane informacije
DESCRIPTION:Webinar je namijenjen službenicima za informiranje i drugim zaposlenicima tijela javne vlasti koji u svom radu primjenjuju Zakon o pravu na pristup informacijama. Predviđeno trajanje webinara je 45 minuta. Webinaru se moguće priključiti na poveznici https://connect.carnet.hr/informiranje/ (preko Adobe Connect aplikacije)\, sa svojim imenom i prezimenom kao gost (nije potrebna lozinka)\, dok su od dodatne opreme potrebni samo zvučnici ili slušalice.
URL:https://pristupinfo.hr/event/webinar-klasificirane-informacije-3/
END:VEVENT
BEGIN:VEVENT
DTSTART;TZID=UTC:20231107T090000
DTEND;TZID=UTC:20231107T163000
DTSTAMP:20260419T202323
CREATED:20230302T114616Z
LAST-MODIFIED:20231103T122252Z
UID:10000162-1699347600-1699374600@pristupinfo.hr
SUMMARY:Pravo na pristup informacijama – napredni modul
DESCRIPTION:Jednodnevni program provodi se u suradnji s Državnom školom za javnu upravu\, a svrha mu je stjecanje i produbljivanje znanja iz područja prava na pristup informacijama. \nNapredni modul namijenjen je službenicima koji su odslušali osnovni modul\, a zanimaju ih pojedina pitanja u primjeni Zakona o pravu na pristup informacijama\, kao što su test razmjernosti i javnog interesa\, zlouporaba prava\, ograničenja pristupa i dr. \nUkupno trajanje radionice je 8 sati. Edukacija se održava uživo u prostorijama Državne škole za javnu upravu.
URL:https://pristupinfo.hr/event/pravo-na-pristup-informacijama-napredni-modul-5/
LOCATION:Državna škola za javnu upravu\, Medulićeva 36\, Zagreb\, 10000\, Croatia (Local Name: Hrvatska)
END:VEVENT
BEGIN:VEVENT
DTSTART;TZID=UTC:20231027T140000
DTEND;TZID=UTC:20231027T144500
DTSTAMP:20260419T202323
CREATED:20230302T101418Z
LAST-MODIFIED:20231017T085007Z
UID:10000151-1698415200-1698417900@pristupinfo.hr
SUMMARY:Webinar: Poslovna\, profesionalna i porezna tajna
DESCRIPTION:Webinar je namijenjen službenicima za informiranje i drugim zaposlenicima tijela javne vlasti koji u svom radu primjenjuju Zakon o pravu na pristup informacijama. Predviđeno trajanje webinara je 45 minuta. Webinaru se moguće priključiti na poveznici https://connect.carnet.hr/informiranje/ (preko Adobe Connect aplikacije)\, sa svojim imenom i prezimenom kao gost (nije potrebna lozinka)\, dok su od dodatne opreme potrebni samo zvučnici ili slušalice.
URL:https://pristupinfo.hr/event/webinar-poslovna-profesionalna-i-porezna-tajna-2/
END:VEVENT
BEGIN:VEVENT
DTSTART;TZID=UTC:20231026T080000
DTEND;TZID=UTC:20231027T170000
DTSTAMP:20260419T202323
CREATED:20230302T113426Z
LAST-MODIFIED:20230302T113426Z
UID:10000159-1698307200-1698426000@pristupinfo.hr
SUMMARY:Pravo na pristup informacijama - osnovni modul
DESCRIPTION: Program se provodi u suradnji s Državnom školom za javnu upravu\, a svrha mu je stjecanje i produbljivanje znanja iz područja prava na pristup informacijama. Polaznici će\, kroz predavanja\, vježbe i primjere iz dosadašnje prakse\, dobiti pregled zakona i podzakonskih akata koji su im potrebni za obavljanje poslova ostvarivanja prava na pristup informacijama (Zakon o pravu na pristup informacijama\, Zakon o zaštiti osobnih podataka\, Zakon o tajnosti podataka). Aktivnim vježbama i uz postavljanje pitanja\, polaznici će se upoznati s rješenjima potrebnim za što učinkovitiji i kvalitetan rad. \nRadionica je namijenjena isključivo državnim službenicima\, službenicima u tijelima lokalne i područne (regionalne) samouprave te zaposlenima u pravnim osobama s javnim ovlastima – prvenstveno službenicima za informiranje\, a potom i ostalim službenicima u navedenim tijelima koji u svakodnevnom radu primjenjuju Zakon o pravu na pristup informacijama. Radionica je predviđena za 20 polaznika. \nUkupno trajanje dvodnevne radionice je 16 sati. Edukacija se održava uživo u prostorijama Državne škole za javnu upravu.
URL:https://pristupinfo.hr/event/pravo-na-pristup-informacijama-osnovni-modul-4/
LOCATION:Državna škola za javnu upravu\, Medulićeva 36\, Zagreb\, 10000\, Croatia (Local Name: Hrvatska)
END:VEVENT
BEGIN:VEVENT
DTSTART;TZID=UTC:20231025T140000
DTEND;TZID=UTC:20231025T144500
DTSTAMP:20260419T202323
CREATED:20230302T102839Z
LAST-MODIFIED:20230302T102839Z
UID:10000152-1698242400-1698245100@pristupinfo.hr
SUMMARY:Webinar: Savjetovanje s javnošću
DESCRIPTION:Webinar je namijenjen službenicima za informiranje i drugim zaposlenicima tijela javne vlasti koji u svom radu primjenjuju Zakon o pravu na pristup informacijama. Predviđeno trajanje webinara je 45 minuta. Webinaru se moguće priključiti na poveznici https://connect.carnet.hr/informiranje/ (preko Adobe Connect aplikacije)\, sa svojim imenom i prezimenom kao gost (nije potrebna lozinka)\, dok su od dodatne opreme potrebni samo zvučnici ili slušalice.
URL:https://pristupinfo.hr/event/webinar-savjetovanje-s-javnoscu/
END:VEVENT
BEGIN:VEVENT
DTSTART;TZID=UTC:20231025T090000
DTEND;TZID=UTC:20231025T120000
DTSTAMP:20260419T202323
CREATED:20240226T144204Z
LAST-MODIFIED:20240226T144204Z
UID:10000192-1698224400-1698235200@pristupinfo.hr
SUMMARY:DŠJU: Provedba savjetovanja s javnošću sukladno odredbama Zakona o pravu na pristup informacijama
DESCRIPTION:
URL:https://pristupinfo.hr/event/dsju-provedba-savjetovanja-s-javnoscu-sukladno-odredbama-zakona-o-pravu-na-pristup-informacijama-3/
END:VEVENT
BEGIN:VEVENT
DTSTART;TZID=UTC:20231006T090000
DTEND;TZID=UTC:20231006T160000
DTSTAMP:20260419T202323
CREATED:20230302T122358Z
LAST-MODIFIED:20230302T130352Z
UID:10000165-1696582800-1696608000@pristupinfo.hr
SUMMARY:Radionica - Priprema i provedba savjetovanja s javnošću
DESCRIPTION:Svrha radionice je unaprijediti praksu savjetovanja sa zainteresiranom javnošću u oblikovanju javnih politika. Kroz predavanja i vježbe u malim grupama\, radionica će polaznike uputiti u metode savjetovanja i pružiti im konkretne alate za praktičnu primjenu u provedbi Kodeksa savjetovanja sa zainteresiranom javnošću u oblikovanju zakona\, drugih propisa i akata (NN 140/09)\, Zakona o pravu na pristup informacijama (NN 25/13\, 85/15) te Zakona o procjeni učinaka propisa (NN 44/17). \nCilj radionice je unaprijediti praksu savjetovanja te podići razinu transparentnosti u izradi i provedbi javnih politika u tijelima državne uprave\, jedinicama lokalne i područne (regionalne) samouprave te drugim tijelima javne vlasti. \nJednodnevna radionica u trajanju osam školskih sati održava se uživo u prostorijama Državne škole za javnu upravu. \nZainteresirani polaznici mogu se prijaviti za radionicu isključivo putem sustava Državne škole za javnu upravu.
URL:https://pristupinfo.hr/event/radionica-kako-pripremiti-i-provesti-ucinkovito-savjetovanje-sa-zainteresiranom-javnoscu-u-postupcima-donosenja-zakona-drugih-propisa-i-akata-3/
LOCATION:Državna škola za javnu upravu\, Medulićeva 36\, Zagreb\, 10000\, Croatia (Local Name: Hrvatska)
END:VEVENT
BEGIN:VEVENT
DTSTART;TZID=UTC:20231004T140000
DTEND;TZID=UTC:20231004T144500
DTSTAMP:20260419T202323
CREATED:20230302T101246Z
LAST-MODIFIED:20230302T101246Z
UID:10000150-1696428000-1696430700@pristupinfo.hr
SUMMARY:Webinar: Proaktivna objava informacija
DESCRIPTION:Webinar je namijenjen službenicima za informiranje i drugim zaposlenicima tijela javne vlasti koji u svom radu primjenjuju Zakon o pravu na pristup informacijama. Predviđeno trajanje webinara je 45 minuta. Webinaru se moguće priključiti na poveznici https://connect.carnet.hr/informiranje/ (preko Adobe Connect aplikacije)\, sa svojim imenom i prezimenom kao gost (nije potrebna lozinka)\, dok su od dodatne opreme potrebni samo zvučnici ili slušalice.
URL:https://pristupinfo.hr/event/webinar-proaktivna-objava-informacija-2/
END:VEVENT
BEGIN:VEVENT
DTSTART;TZID=UTC:20230926T140000
DTEND;TZID=UTC:20230926T144500
DTSTAMP:20260419T202323
CREATED:20230302T100918Z
LAST-MODIFIED:20230918T105043Z
UID:10000149-1695736800-1695739500@pristupinfo.hr
SUMMARY:Webinar: Osobni podaci i pristup informacijama
DESCRIPTION:Webinar je namijenjen službenicima za informiranje i drugim zaposlenicima tijela javne vlasti koji u svom radu primjenjuju Zakon o pravu na pristup informacijama. Predviđeno trajanje webinara je 45 minuta. Webinaru se moguće priključiti na poveznici https://connect.carnet.hr/informiranje/ (preko Adobe Connect aplikacije)\, sa svojim imenom i prezimenom kao gost (nije potrebna lozinka)\, dok su od dodatne opreme potrebni samo zvučnici ili slušalice.
URL:https://pristupinfo.hr/event/webinar-osobni-podaci-i-pristup-informacijama/
END:VEVENT
BEGIN:VEVENT
DTSTART;VALUE=DATE:20230918
DTEND;VALUE=DATE:20230919
DTSTAMP:20260419T202323
CREATED:20230302T131651Z
LAST-MODIFIED:20230302T132329Z
UID:10000170-1694995200-1695081599@pristupinfo.hr
SUMMARY:Ponovna uporaba informacija i otvoreni podaci (e-tečaj)
DESCRIPTION:Svrha e-tečaja je stručno osposobljavanje i usavršavanje službenika u tijelima javne vlasti za primjenu odredbi Zakona o pravu na pristup informacijama u dijelu u kojem se propisuje obveza proaktivne objave informacija na internetskoj stranici na lako pretraživ način i u strojno čitljivom obliku\, kao i u identifikaciji i objavi skupova podataka radi stavljanja na raspolaganje informacija za ponovnu uporabu te pružanja informacija na zahtjev korisnika. \nTijekom e-tečaja polaznici će se upoznati sa zakonskim i institucionalnim okvirom za ponovnu uporabu\, obvezama tijela javne vlasti u osiguranju ponovne uporabe informacija\, osiguranju kvalitete i otvorenosti podataka\, uvjetima ponovne uporabe podataka (licenciranje\, Otvorena dozvola\, druge vrste dozvola) te ostvarivanjem i zaštitom prava na ponovnu uporabu (ograničenja prava\, pravna zaštita u postupku ostvarivanja prava na ponovnu uporabu\, troškovi ponovne uporabe\, isključiva prava). \nUkupno trajanje e-tečaja je 4 školska sata\, a polaznici mogu pohađati tečaj vlastitim tempom tijekom pet dana u zadanom razdoblju od 18. do 22. rujna 2023. \nPrijava na tečaj moguća je isključivo preko online sustava DŠJU.
URL:https://pristupinfo.hr/event/ponovna-uporaba-informacija-i-otvoreni-podaci-e-tecaj-5/
END:VEVENT
BEGIN:VEVENT
DTSTART;TZID=UTC:20230913T140000
DTEND;TZID=UTC:20230913T144500
DTSTAMP:20260419T202323
CREATED:20230302T100255Z
LAST-MODIFIED:20230905T132454Z
UID:10000147-1694613600-1694616300@pristupinfo.hr
SUMMARY:Webinar: Postupanje po zahtjevima za pristup informacijama
DESCRIPTION:Webinar je namijenjen službenicima za informiranje i drugim zaposlenicima tijela javne vlasti koji u svom radu primjenjuju Zakon o pravu na pristup informacijama. Predviđeno trajanje webinara je 45 minuta. Webinaru se moguće priključiti na poveznici https://connect.carnet.hr/informiranje/ (preko Adobe Connect aplikacije)\, sa svojim imenom i prezimenom kao gost (nije potrebna lozinka)\, dok su od dodatne opreme potrebni samo zvučnici ili slušalice.
URL:https://pristupinfo.hr/event/webinar-postupanje-po-zahtjevima-za-pristup-informacijama/
END:VEVENT
BEGIN:VEVENT
DTSTART;TZID=UTC:20230912T140000
DTEND;TZID=UTC:20230912T144500
DTSTAMP:20260419T202323
CREATED:20230302T100731Z
LAST-MODIFIED:20230905T072659Z
UID:10000148-1694527200-1694529900@pristupinfo.hr
SUMMARY:Webinar: Evidentiranje zahtjeva u službeni upisnik
DESCRIPTION:Webinar je namijenjen službenicima za informiranje i drugim zaposlenicima tijela javne vlasti koji u svom radu primjenjuju Zakon o pravu na pristup informacijama. Predviđeno trajanje webinara je 45 minuta. Webinaru se moguće priključiti na poveznici https://connect.carnet.hr/informiranje/ (preko Adobe Connect aplikacije)\, sa svojim imenom i prezimenom kao gost (nije potrebna lozinka)\, dok su od dodatne opreme potrebni samo zvučnici ili slušalice.
URL:https://pristupinfo.hr/event/webinar-evidentiranje-zahtjeva-u-sluzbeni-upisnik/
END:VEVENT
END:VCALENDAR