BEGIN:VCALENDAR
VERSION:2.0
PRODID:-//Povjerenik za informiranje - ECPv6.15.17//NONSGML v1.0//EN
CALSCALE:GREGORIAN
METHOD:PUBLISH
X-ORIGINAL-URL:https://pristupinfo.hr
X-WR-CALDESC:Događaji za Povjerenik za informiranje
REFRESH-INTERVAL;VALUE=DURATION:PT1H
X-Robots-Tag:noindex
X-PUBLISHED-TTL:PT1H
BEGIN:VTIMEZONE
TZID:UTC
BEGIN:STANDARD
TZOFFSETFROM:+0000
TZOFFSETTO:+0000
TZNAME:UTC
DTSTART:20250101T000000
END:STANDARD
END:VTIMEZONE
BEGIN:VEVENT
DTSTART;TZID=UTC:20261022T080000
DTEND;TZID=UTC:20261022T160000
DTSTAMP:20260422T234013
CREATED:20260304T092528Z
LAST-MODIFIED:20260304T092528Z
UID:10000244-1792656000-1792684800@pristupinfo.hr
SUMMARY:DŠJU – Upravljanje otvorenim podacima
DESCRIPTION:Ciljevi i svrha\nSvrha edukacije je osiguranje kvalitetnog i cjelovitog ispunjavanje obveza objave podataka za ponovnu uporabu sukladno Zakonu pravu na pristup informacijama (“Narodne novine“\, broj 25/13\, 85/15 i 69/22\, dalje u tekstu: Zakon) te u kontekstu Akcijskog plana za provedbu Politike otvorenih podataka. Navedeno uključuje objavu podataka na Portalu otvorenih podataka i na mrežnim stranicama tijela javne vlasti\, kao i objavu popisa baza i registara te skupova podataka tijela javne vlasti (asset liste). \nCilj edukacije je osposobiti polaznike za učinkovitu primjenu Zakona u odnosu na proaktivnu objavu podataka za ponovnu uporabu. Kroz interaktivne prezentacije s primjerima dobre prakse u objavi baza i registara\, praktičan rad polaznika i raspravu o pojedinim aspektima ponovne uporabe\, polaznici će steći potrebna znanja i praktične vještine koje će im omogućiti stručno obavljanje poslova koji se odnose na obvezu objave  podataka za ponovnu uporabu. \nSadržaj\n\nKoncept ponovne uporabe i otvorenih podataka\nMeđunarodni i domaći pravni okvir za osiguranje ponovne uporabe\nPrepoznavanje skupova pogodnih za ponovnu uporabu\nPrepoznavanje visokovrijednih skupova podataka\nStandardi pristupa podacima i njihovo korištenje\nLicenciranje\nPriprema izrada asset lista\nKorištenje Portala otvorenih podataka (objava i pristup podacima)\n\nCiljna skupina\n\nSlužbenici za informiranje\nSlužbenici zaduženi za objavu sadržaja na internetskim stranicama\, službenici zaduženi za održavanje baza i registara\n\nMjesto održavanja\nRadionica će se održati u Državnoj školi za javnu upravu\, Medulićeva 36\, Zagreb.
URL:https://pristupinfo.hr/event/dsju-upravljanje-otvorenim-podacima-3/
LOCATION:Državna škola za javnu upravu\, Medulićeva 36\, Zagreb\, 10000\, Croatia (Local Name: Hrvatska)
CATEGORIES:Edukacije
END:VEVENT
END:VCALENDAR